BEGIN:VCALENDAR
VERSION:2.0
PRODID:-//Evangelische Gemeinde ELIM Leipzig - ECPv6.15.20//NONSGML v1.0//EN
CALSCALE:GREGORIAN
METHOD:PUBLISH
X-ORIGINAL-URL:https://www.elim-leipzig.de
X-WR-CALDESC:Veranstaltungen für Evangelische Gemeinde ELIM Leipzig
REFRESH-INTERVAL;VALUE=DURATION:PT1H
X-Robots-Tag:noindex
X-PUBLISHED-TTL:PT1H
BEGIN:VTIMEZONE
TZID:Europe/Berlin
BEGIN:DAYLIGHT
TZOFFSETFROM:+0100
TZOFFSETTO:+0200
TZNAME:CEST
DTSTART:20240331T010000
END:DAYLIGHT
BEGIN:STANDARD
TZOFFSETFROM:+0200
TZOFFSETTO:+0100
TZNAME:CET
DTSTART:20241027T010000
END:STANDARD
BEGIN:DAYLIGHT
TZOFFSETFROM:+0100
TZOFFSETTO:+0200
TZNAME:CEST
DTSTART:20250330T010000
END:DAYLIGHT
BEGIN:STANDARD
TZOFFSETFROM:+0200
TZOFFSETTO:+0100
TZNAME:CET
DTSTART:20251026T010000
END:STANDARD
BEGIN:DAYLIGHT
TZOFFSETFROM:+0100
TZOFFSETTO:+0200
TZNAME:CEST
DTSTART:20260329T010000
END:DAYLIGHT
BEGIN:STANDARD
TZOFFSETFROM:+0200
TZOFFSETTO:+0100
TZNAME:CET
DTSTART:20261025T010000
END:STANDARD
END:VTIMEZONE
BEGIN:VEVENT
DTSTART;TZID=Europe/Berlin:20250227T190000
DTEND;TZID=Europe/Berlin:20250227T203000
DTSTAMP:20260421T140640
CREATED:20250124T085038Z
LAST-MODIFIED:20250124T085038Z
UID:6741-1740682800-1740688200@www.elim-leipzig.de
SUMMARY:Gebetsabend
DESCRIPTION:
URL:https://www.elim-leipzig.de/termin/gebetsabend-3/2025-02-27/
CATEGORIES:Allgemein
END:VEVENT
BEGIN:VEVENT
DTSTART;TZID=Europe/Berlin:20250220T190000
DTEND;TZID=Europe/Berlin:20250220T203000
DTSTAMP:20260421T140640
CREATED:20250124T085038Z
LAST-MODIFIED:20250124T085038Z
UID:6740-1740078000-1740083400@www.elim-leipzig.de
SUMMARY:Gebetsabend
DESCRIPTION:
URL:https://www.elim-leipzig.de/termin/gebetsabend-3/2025-02-20/
CATEGORIES:Allgemein
END:VEVENT
BEGIN:VEVENT
DTSTART;TZID=Europe/Berlin:20250213T190000
DTEND;TZID=Europe/Berlin:20250213T203000
DTSTAMP:20260421T140640
CREATED:20250124T085038Z
LAST-MODIFIED:20250124T085038Z
UID:6739-1739473200-1739478600@www.elim-leipzig.de
SUMMARY:Gebetsabend
DESCRIPTION:
URL:https://www.elim-leipzig.de/termin/gebetsabend-3/2025-02-13/
CATEGORIES:Allgemein
END:VEVENT
BEGIN:VEVENT
DTSTART;TZID=Europe/Berlin:20250206T190000
DTEND;TZID=Europe/Berlin:20250206T203000
DTSTAMP:20260421T140640
CREATED:20250124T085038Z
LAST-MODIFIED:20250124T085038Z
UID:6738-1738868400-1738873800@www.elim-leipzig.de
SUMMARY:Gebetsabend
DESCRIPTION:
URL:https://www.elim-leipzig.de/termin/gebetsabend-3/2025-02-06/
CATEGORIES:Allgemein
END:VEVENT
END:VCALENDAR