BEGIN:VCALENDAR
VERSION:2.0
PRODID:-//Evangelische Gemeinde ELIM Leipzig - ECPv6.15.20//NONSGML v1.0//EN
CALSCALE:GREGORIAN
METHOD:PUBLISH
X-ORIGINAL-URL:https://www.elim-leipzig.de
X-WR-CALDESC:Veranstaltungen für Evangelische Gemeinde ELIM Leipzig
REFRESH-INTERVAL;VALUE=DURATION:PT1H
X-Robots-Tag:noindex
X-PUBLISHED-TTL:PT1H
BEGIN:VTIMEZONE
TZID:Europe/Berlin
BEGIN:DAYLIGHT
TZOFFSETFROM:+0100
TZOFFSETTO:+0200
TZNAME:CEST
DTSTART:20240331T010000
END:DAYLIGHT
BEGIN:STANDARD
TZOFFSETFROM:+0200
TZOFFSETTO:+0100
TZNAME:CET
DTSTART:20241027T010000
END:STANDARD
BEGIN:DAYLIGHT
TZOFFSETFROM:+0100
TZOFFSETTO:+0200
TZNAME:CEST
DTSTART:20250330T010000
END:DAYLIGHT
BEGIN:STANDARD
TZOFFSETFROM:+0200
TZOFFSETTO:+0100
TZNAME:CET
DTSTART:20251026T010000
END:STANDARD
BEGIN:DAYLIGHT
TZOFFSETFROM:+0100
TZOFFSETTO:+0200
TZNAME:CEST
DTSTART:20260329T010000
END:DAYLIGHT
BEGIN:STANDARD
TZOFFSETFROM:+0200
TZOFFSETTO:+0100
TZNAME:CET
DTSTART:20261025T010000
END:STANDARD
END:VTIMEZONE
BEGIN:VEVENT
DTSTART;TZID=Europe/Berlin:20250501T190000
DTEND;TZID=Europe/Berlin:20250501T203000
DTSTAMP:20260421T102430
CREATED:20250429T092646Z
LAST-MODIFIED:20250429T092646Z
UID:6848-1746126000-1746131400@www.elim-leipzig.de
SUMMARY:Gebetsabend
DESCRIPTION:
URL:https://www.elim-leipzig.de/termin/gebetsabend-6/2025-05-01/
CATEGORIES:Allgemein
END:VEVENT
BEGIN:VEVENT
DTSTART;TZID=Europe/Berlin:20250502T183000
DTEND;TZID=Europe/Berlin:20250502T220000
DTSTAMP:20260421T102430
CREATED:20250429T092901Z
LAST-MODIFIED:20250429T092901Z
UID:6854-1746210600-1746223200@www.elim-leipzig.de
SUMMARY:HopeCulture Gottesdienst
DESCRIPTION:
URL:https://www.elim-leipzig.de/termin/hopeculture-gottesdienst-4/2025-05-02/
CATEGORIES:Jugend
END:VEVENT
BEGIN:VEVENT
DTSTART;TZID=Europe/Berlin:20250504T100000
DTEND;TZID=Europe/Berlin:20250504T110000
DTSTAMP:20260421T102430
CREATED:20250429T092359Z
LAST-MODIFIED:20250522T164955Z
UID:6839-1746352800-1746356400@www.elim-leipzig.de
SUMMARY:Gottesdienst 🇩🇪 🇬🇧 🇪🇸 🇺🇦 mit Kindergottesdienst
DESCRIPTION:Wir würden uns freuen\, Dich bei uns willkommen zu heißen. In unseren Veranstaltungen begegnen sich Menschen aller Generationen. Hier gibt es für Dich die Möglichkeit\, neue Menschen kennenzulernen und Gott zu erleben. \nKinder und Familien sind uns wichtig! Parallel zu unserem ersten Gottesdienst um 10:00 Uhr bieten wir ein buntes Programm für alle Kinder.  Unser Ziel ist es Kinder für Jesus zu begeistern und ihr Leben durch Werte zu stärken.  Durch spannende und interaktive Bibelgeschichten\, Lieder und Spiele erfahren die Kinder Wertschätzung und dass Gott sie liebt. Bei uns begegnen sich Kinder und Eltern gerne! Unsere Mitarbeiter freuen sich Dich und Deine Familie kennenzulernen! \nUnsere Gruppen sind: \n\nSpatzen: 3-4 Jahre\nIgel: 4-6 Jahre\nSchulkinder: 6-12  Jahre\n\nFür Mütter mit Babys gibt es einen Stillraum mit Wickelmöglichkeit. Ein toller Spielraum wartet  auf alle Kinder unter 2 Jahren mit ihren Eltern. In beiden Räumen kann der Gottesdienst per Video- und Tonübertragung verfolgt werden.
URL:https://www.elim-leipzig.de/termin/gottesdienst-%f0%9f%87%ac%f0%9f%87%a7%f0%9f%87%aa%f0%9f%87%b8%f0%9f%87%ba%f0%9f%87%a6-mit-kindergottesdienst-14/2025-05-04/
CATEGORIES:Allgemein,Kinder
END:VEVENT
BEGIN:VEVENT
DTSTART;TZID=Europe/Berlin:20250507T160000
DTEND;TZID=Europe/Berlin:20250507T180000
DTSTAMP:20260421T102430
CREATED:20250429T093321Z
LAST-MODIFIED:20250429T093321Z
UID:6865-1746633600-1746640800@www.elim-leipzig.de
SUMMARY:Bibel Café
DESCRIPTION:
URL:https://www.elim-leipzig.de/termin/bibel-cafe-2/2025-05-07/
CATEGORIES:Allgemein
END:VEVENT
BEGIN:VEVENT
DTSTART;TZID=Europe/Berlin:20250508T190000
DTEND;TZID=Europe/Berlin:20250508T203000
DTSTAMP:20260421T102430
CREATED:20250429T092646Z
LAST-MODIFIED:20250429T092646Z
UID:6849-1746730800-1746736200@www.elim-leipzig.de
SUMMARY:Gebetsabend
DESCRIPTION:
URL:https://www.elim-leipzig.de/termin/gebetsabend-6/2025-05-08/
CATEGORIES:Allgemein
END:VEVENT
BEGIN:VEVENT
DTSTART;TZID=Europe/Berlin:20250509T183000
DTEND;TZID=Europe/Berlin:20250509T220000
DTSTAMP:20260421T102430
CREATED:20250429T092901Z
LAST-MODIFIED:20250429T092901Z
UID:6855-1746815400-1746828000@www.elim-leipzig.de
SUMMARY:HopeCulture Gottesdienst
DESCRIPTION:
URL:https://www.elim-leipzig.de/termin/hopeculture-gottesdienst-4/2025-05-09/
CATEGORIES:Jugend
END:VEVENT
BEGIN:VEVENT
DTSTART;TZID=Europe/Berlin:20250511T100000
DTEND;TZID=Europe/Berlin:20250511T110000
DTSTAMP:20260421T102430
CREATED:20250429T092359Z
LAST-MODIFIED:20250522T164955Z
UID:6840-1746957600-1746961200@www.elim-leipzig.de
SUMMARY:Gottesdienst 🇩🇪 🇬🇧 🇪🇸 🇺🇦 mit Kindergottesdienst
DESCRIPTION:Wir würden uns freuen\, Dich bei uns willkommen zu heißen. In unseren Veranstaltungen begegnen sich Menschen aller Generationen. Hier gibt es für Dich die Möglichkeit\, neue Menschen kennenzulernen und Gott zu erleben. \nKinder und Familien sind uns wichtig! Parallel zu unserem ersten Gottesdienst um 10:00 Uhr bieten wir ein buntes Programm für alle Kinder.  Unser Ziel ist es Kinder für Jesus zu begeistern und ihr Leben durch Werte zu stärken.  Durch spannende und interaktive Bibelgeschichten\, Lieder und Spiele erfahren die Kinder Wertschätzung und dass Gott sie liebt. Bei uns begegnen sich Kinder und Eltern gerne! Unsere Mitarbeiter freuen sich Dich und Deine Familie kennenzulernen! \nUnsere Gruppen sind: \n\nSpatzen: 3-4 Jahre\nIgel: 4-6 Jahre\nSchulkinder: 6-12  Jahre\n\nFür Mütter mit Babys gibt es einen Stillraum mit Wickelmöglichkeit. Ein toller Spielraum wartet  auf alle Kinder unter 2 Jahren mit ihren Eltern. In beiden Räumen kann der Gottesdienst per Video- und Tonübertragung verfolgt werden.
URL:https://www.elim-leipzig.de/termin/gottesdienst-%f0%9f%87%ac%f0%9f%87%a7%f0%9f%87%aa%f0%9f%87%b8%f0%9f%87%ba%f0%9f%87%a6-mit-kindergottesdienst-14/2025-05-11/
CATEGORIES:Allgemein,Kinder
END:VEVENT
BEGIN:VEVENT
DTSTART;TZID=Europe/Berlin:20250514T160000
DTEND;TZID=Europe/Berlin:20250514T180000
DTSTAMP:20260421T102430
CREATED:20250429T093321Z
LAST-MODIFIED:20250429T093321Z
UID:6866-1747238400-1747245600@www.elim-leipzig.de
SUMMARY:Bibel Café
DESCRIPTION:
URL:https://www.elim-leipzig.de/termin/bibel-cafe-2/2025-05-14/
CATEGORIES:Allgemein
END:VEVENT
BEGIN:VEVENT
DTSTART;TZID=Europe/Berlin:20250515T190000
DTEND;TZID=Europe/Berlin:20250515T203000
DTSTAMP:20260421T102430
CREATED:20250429T092646Z
LAST-MODIFIED:20250429T092646Z
UID:6850-1747335600-1747341000@www.elim-leipzig.de
SUMMARY:Gebetsabend
DESCRIPTION:
URL:https://www.elim-leipzig.de/termin/gebetsabend-6/2025-05-15/
CATEGORIES:Allgemein
END:VEVENT
BEGIN:VEVENT
DTSTART;TZID=Europe/Berlin:20250516T183000
DTEND;TZID=Europe/Berlin:20250516T220000
DTSTAMP:20260421T102430
CREATED:20250429T092901Z
LAST-MODIFIED:20250429T092901Z
UID:6856-1747420200-1747432800@www.elim-leipzig.de
SUMMARY:HopeCulture Gottesdienst
DESCRIPTION:
URL:https://www.elim-leipzig.de/termin/hopeculture-gottesdienst-4/2025-05-16/
CATEGORIES:Jugend
END:VEVENT
BEGIN:VEVENT
DTSTART;TZID=Europe/Berlin:20250518T100000
DTEND;TZID=Europe/Berlin:20250518T110000
DTSTAMP:20260421T102430
CREATED:20250429T092359Z
LAST-MODIFIED:20250522T164955Z
UID:6841-1747562400-1747566000@www.elim-leipzig.de
SUMMARY:Gottesdienst 🇩🇪 🇬🇧 🇪🇸 🇺🇦 mit Kindergottesdienst
DESCRIPTION:Wir würden uns freuen\, Dich bei uns willkommen zu heißen. In unseren Veranstaltungen begegnen sich Menschen aller Generationen. Hier gibt es für Dich die Möglichkeit\, neue Menschen kennenzulernen und Gott zu erleben. \nKinder und Familien sind uns wichtig! Parallel zu unserem ersten Gottesdienst um 10:00 Uhr bieten wir ein buntes Programm für alle Kinder.  Unser Ziel ist es Kinder für Jesus zu begeistern und ihr Leben durch Werte zu stärken.  Durch spannende und interaktive Bibelgeschichten\, Lieder und Spiele erfahren die Kinder Wertschätzung und dass Gott sie liebt. Bei uns begegnen sich Kinder und Eltern gerne! Unsere Mitarbeiter freuen sich Dich und Deine Familie kennenzulernen! \nUnsere Gruppen sind: \n\nSpatzen: 3-4 Jahre\nIgel: 4-6 Jahre\nSchulkinder: 6-12  Jahre\n\nFür Mütter mit Babys gibt es einen Stillraum mit Wickelmöglichkeit. Ein toller Spielraum wartet  auf alle Kinder unter 2 Jahren mit ihren Eltern. In beiden Räumen kann der Gottesdienst per Video- und Tonübertragung verfolgt werden.
URL:https://www.elim-leipzig.de/termin/gottesdienst-%f0%9f%87%ac%f0%9f%87%a7%f0%9f%87%aa%f0%9f%87%b8%f0%9f%87%ba%f0%9f%87%a6-mit-kindergottesdienst-14/2025-05-18/
CATEGORIES:Allgemein,Kinder
END:VEVENT
BEGIN:VEVENT
DTSTART;TZID=Europe/Berlin:20250521T160000
DTEND;TZID=Europe/Berlin:20250521T180000
DTSTAMP:20260421T102430
CREATED:20250429T093321Z
LAST-MODIFIED:20250429T093321Z
UID:6867-1747843200-1747850400@www.elim-leipzig.de
SUMMARY:Bibel Café
DESCRIPTION:
URL:https://www.elim-leipzig.de/termin/bibel-cafe-2/2025-05-21/
CATEGORIES:Allgemein
END:VEVENT
BEGIN:VEVENT
DTSTART;TZID=Europe/Berlin:20250522T190000
DTEND;TZID=Europe/Berlin:20250522T203000
DTSTAMP:20260421T102430
CREATED:20250429T092646Z
LAST-MODIFIED:20250429T092646Z
UID:6851-1747940400-1747945800@www.elim-leipzig.de
SUMMARY:Gebetsabend
DESCRIPTION:
URL:https://www.elim-leipzig.de/termin/gebetsabend-6/2025-05-22/
CATEGORIES:Allgemein
END:VEVENT
BEGIN:VEVENT
DTSTART;TZID=Europe/Berlin:20250523T183000
DTEND;TZID=Europe/Berlin:20250523T220000
DTSTAMP:20260421T102430
CREATED:20250429T092901Z
LAST-MODIFIED:20250429T092901Z
UID:6857-1748025000-1748037600@www.elim-leipzig.de
SUMMARY:HopeCulture Gottesdienst
DESCRIPTION:
URL:https://www.elim-leipzig.de/termin/hopeculture-gottesdienst-4/2025-05-23/
CATEGORIES:Jugend
END:VEVENT
BEGIN:VEVENT
DTSTART;TZID=Europe/Berlin:20250525T100000
DTEND;TZID=Europe/Berlin:20250525T110000
DTSTAMP:20260421T102430
CREATED:20250429T092359Z
LAST-MODIFIED:20250522T164955Z
UID:6842-1748167200-1748170800@www.elim-leipzig.de
SUMMARY:Gottesdienst 🇩🇪 🇬🇧 🇪🇸 🇺🇦 mit Kindergottesdienst
DESCRIPTION:Wir würden uns freuen\, Dich bei uns willkommen zu heißen. In unseren Veranstaltungen begegnen sich Menschen aller Generationen. Hier gibt es für Dich die Möglichkeit\, neue Menschen kennenzulernen und Gott zu erleben. \nKinder und Familien sind uns wichtig! Parallel zu unserem ersten Gottesdienst um 10:00 Uhr bieten wir ein buntes Programm für alle Kinder.  Unser Ziel ist es Kinder für Jesus zu begeistern und ihr Leben durch Werte zu stärken.  Durch spannende und interaktive Bibelgeschichten\, Lieder und Spiele erfahren die Kinder Wertschätzung und dass Gott sie liebt. Bei uns begegnen sich Kinder und Eltern gerne! Unsere Mitarbeiter freuen sich Dich und Deine Familie kennenzulernen! \nUnsere Gruppen sind: \n\nSpatzen: 3-4 Jahre\nIgel: 4-6 Jahre\nSchulkinder: 6-12  Jahre\n\nFür Mütter mit Babys gibt es einen Stillraum mit Wickelmöglichkeit. Ein toller Spielraum wartet  auf alle Kinder unter 2 Jahren mit ihren Eltern. In beiden Räumen kann der Gottesdienst per Video- und Tonübertragung verfolgt werden.
URL:https://www.elim-leipzig.de/termin/gottesdienst-%f0%9f%87%ac%f0%9f%87%a7%f0%9f%87%aa%f0%9f%87%b8%f0%9f%87%ba%f0%9f%87%a6-mit-kindergottesdienst-14/2025-05-25/
CATEGORIES:Allgemein,Kinder
END:VEVENT
BEGIN:VEVENT
DTSTART;TZID=Europe/Berlin:20250528T160000
DTEND;TZID=Europe/Berlin:20250528T180000
DTSTAMP:20260421T102430
CREATED:20250429T093321Z
LAST-MODIFIED:20250429T093321Z
UID:6868-1748448000-1748455200@www.elim-leipzig.de
SUMMARY:Bibel Café
DESCRIPTION:
URL:https://www.elim-leipzig.de/termin/bibel-cafe-2/2025-05-28/
CATEGORIES:Allgemein
END:VEVENT
BEGIN:VEVENT
DTSTART;TZID=Europe/Berlin:20250529T190000
DTEND;TZID=Europe/Berlin:20250529T203000
DTSTAMP:20260421T102430
CREATED:20250429T092646Z
LAST-MODIFIED:20250429T092646Z
UID:6852-1748545200-1748550600@www.elim-leipzig.de
SUMMARY:Gebetsabend
DESCRIPTION:
URL:https://www.elim-leipzig.de/termin/gebetsabend-6/2025-05-29/
CATEGORIES:Allgemein
END:VEVENT
BEGIN:VEVENT
DTSTART;TZID=Europe/Berlin:20250530T183000
DTEND;TZID=Europe/Berlin:20250530T220000
DTSTAMP:20260421T102430
CREATED:20250429T092901Z
LAST-MODIFIED:20250429T092901Z
UID:6858-1748629800-1748642400@www.elim-leipzig.de
SUMMARY:HopeCulture Gottesdienst
DESCRIPTION:
URL:https://www.elim-leipzig.de/termin/hopeculture-gottesdienst-4/2025-05-30/
CATEGORIES:Jugend
END:VEVENT
END:VCALENDAR