BEGIN:VCALENDAR
VERSION:2.0
PRODID:-//Evangelische Gemeinde ELIM Leipzig - ECPv6.15.20//NONSGML v1.0//EN
CALSCALE:GREGORIAN
METHOD:PUBLISH
X-ORIGINAL-URL:https://www.elim-leipzig.de
X-WR-CALDESC:Veranstaltungen für Evangelische Gemeinde ELIM Leipzig
REFRESH-INTERVAL;VALUE=DURATION:PT1H
X-Robots-Tag:noindex
X-PUBLISHED-TTL:PT1H
BEGIN:VTIMEZONE
TZID:Europe/Berlin
BEGIN:DAYLIGHT
TZOFFSETFROM:+0100
TZOFFSETTO:+0200
TZNAME:CEST
DTSTART:20240331T010000
END:DAYLIGHT
BEGIN:STANDARD
TZOFFSETFROM:+0200
TZOFFSETTO:+0100
TZNAME:CET
DTSTART:20241027T010000
END:STANDARD
BEGIN:DAYLIGHT
TZOFFSETFROM:+0100
TZOFFSETTO:+0200
TZNAME:CEST
DTSTART:20250330T010000
END:DAYLIGHT
BEGIN:STANDARD
TZOFFSETFROM:+0200
TZOFFSETTO:+0100
TZNAME:CET
DTSTART:20251026T010000
END:STANDARD
BEGIN:DAYLIGHT
TZOFFSETFROM:+0100
TZOFFSETTO:+0200
TZNAME:CEST
DTSTART:20260329T010000
END:DAYLIGHT
BEGIN:STANDARD
TZOFFSETFROM:+0200
TZOFFSETTO:+0100
TZNAME:CET
DTSTART:20261025T010000
END:STANDARD
END:VTIMEZONE
BEGIN:VEVENT
DTSTART;TZID=Europe/Berlin:20250702T160000
DTEND;TZID=Europe/Berlin:20250702T180000
DTSTAMP:20260424T192442
CREATED:20250523T090921Z
LAST-MODIFIED:20250709T095107Z
UID:6988-1751472000-1751479200@www.elim-leipzig.de
SUMMARY:Bibel Café
DESCRIPTION:entspannt bei Café die Bibel in guter Gemeinschaft lesen und studieren
URL:https://www.elim-leipzig.de/termin/bibel-cafe-4/2025-07-02/
CATEGORIES:Allgemein
END:VEVENT
BEGIN:VEVENT
DTSTART;TZID=Europe/Berlin:20250703T190000
DTEND;TZID=Europe/Berlin:20250703T203000
DTSTAMP:20260424T192442
CREATED:20250523T091044Z
LAST-MODIFIED:20250709T095314Z
UID:6994-1751569200-1751574600@www.elim-leipzig.de
SUMMARY:Gebetsabend
DESCRIPTION:Wir beten und hören gemeinsam für die Gemeinde\, Gemeindeleitung\, unsere Umgebung und verschiedene Anliegen.
URL:https://www.elim-leipzig.de/termin/gebetsabend-7/2025-07-03/
CATEGORIES:Allgemein
END:VEVENT
BEGIN:VEVENT
DTSTART;TZID=Europe/Berlin:20250704T183000
DTEND;TZID=Europe/Berlin:20250704T220000
DTSTAMP:20260424T192442
CREATED:20250523T091222Z
LAST-MODIFIED:20250523T091222Z
UID:7000-1751653800-1751666400@www.elim-leipzig.de
SUMMARY:HopeCulture Gottesdienst
DESCRIPTION:
URL:https://www.elim-leipzig.de/termin/hopeculture-gottesdienst-6/2025-07-04/
CATEGORIES:Jugend
END:VEVENT
BEGIN:VEVENT
DTSTART;TZID=Europe/Berlin:20250706T100000
DTEND;TZID=Europe/Berlin:20250706T110000
DTSTAMP:20260424T192442
CREATED:20250523T090727Z
LAST-MODIFIED:20250523T090752Z
UID:6979-1751796000-1751799600@www.elim-leipzig.de
SUMMARY:Gottesdienst 🇩🇪 🇬🇧 🇪🇸 🇺🇦 mit Kindergottesdienst
DESCRIPTION:Wir würden uns freuen\, Dich bei uns willkommen zu heißen. In unseren Veranstaltungen begegnen sich Menschen aller Generationen. Hier gibt es für Dich die Möglichkeit\, neue Menschen kennenzulernen und Gott zu erleben. \nKinder und Familien sind uns wichtig! Parallel zu unserem ersten Gottesdienst um 10:00 Uhr bieten wir ein buntes Programm für alle Kinder.  Unser Ziel ist es Kinder für Jesus zu begeistern und ihr Leben durch Werte zu stärken.  Durch spannende und interaktive Bibelgeschichten\, Lieder und Spiele erfahren die Kinder Wertschätzung und dass Gott sie liebt. Bei uns begegnen sich Kinder und Eltern gerne! Unsere Mitarbeiter freuen sich Dich und Deine Familie kennenzulernen! \nUnsere Gruppen sind: \n\nSpatzen: 3-4 Jahre\nIgel: 4-6 Jahre\nSchulkinder: 6-12  Jahre\n\nFür Mütter mit Babys gibt es einen Stillraum mit Wickelmöglichkeit. Ein toller Spielraum wartet  auf alle Kinder unter 2 Jahren mit ihren Eltern. In beiden Räumen kann der Gottesdienst per Video- und Tonübertragung verfolgt werden.
URL:https://www.elim-leipzig.de/termin/gottesdienst-%f0%9f%87%a9%f0%9f%87%aa-%f0%9f%87%ac%f0%9f%87%a7-%f0%9f%87%aa%f0%9f%87%b8-%f0%9f%87%ba%f0%9f%87%a6-mit-kindergottesdienst-3/2025-07-06/
CATEGORIES:Allgemein,Kinder
END:VEVENT
BEGIN:VEVENT
DTSTART;TZID=Europe/Berlin:20250709T160000
DTEND;TZID=Europe/Berlin:20250709T180000
DTSTAMP:20260424T192442
CREATED:20250523T090921Z
LAST-MODIFIED:20250709T095107Z
UID:6989-1752076800-1752084000@www.elim-leipzig.de
SUMMARY:Bibel Café
DESCRIPTION:entspannt bei Café die Bibel in guter Gemeinschaft lesen und studieren
URL:https://www.elim-leipzig.de/termin/bibel-cafe-4/2025-07-09/
CATEGORIES:Allgemein
END:VEVENT
BEGIN:VEVENT
DTSTART;TZID=Europe/Berlin:20250710T190000
DTEND;TZID=Europe/Berlin:20250710T203000
DTSTAMP:20260424T192442
CREATED:20250523T091044Z
LAST-MODIFIED:20250709T095314Z
UID:6995-1752174000-1752179400@www.elim-leipzig.de
SUMMARY:Gebetsabend
DESCRIPTION:Wir beten und hören gemeinsam für die Gemeinde\, Gemeindeleitung\, unsere Umgebung und verschiedene Anliegen.
URL:https://www.elim-leipzig.de/termin/gebetsabend-7/2025-07-10/
CATEGORIES:Allgemein
END:VEVENT
BEGIN:VEVENT
DTSTART;TZID=Europe/Berlin:20250711T183000
DTEND;TZID=Europe/Berlin:20250711T220000
DTSTAMP:20260424T192442
CREATED:20250523T091222Z
LAST-MODIFIED:20250523T091222Z
UID:7001-1752258600-1752271200@www.elim-leipzig.de
SUMMARY:HopeCulture Gottesdienst
DESCRIPTION:
URL:https://www.elim-leipzig.de/termin/hopeculture-gottesdienst-6/2025-07-11/
CATEGORIES:Jugend
END:VEVENT
BEGIN:VEVENT
DTSTART;TZID=Europe/Berlin:20250713T100000
DTEND;TZID=Europe/Berlin:20250713T110000
DTSTAMP:20260424T192442
CREATED:20250523T090727Z
LAST-MODIFIED:20250523T090752Z
UID:6980-1752400800-1752404400@www.elim-leipzig.de
SUMMARY:Gottesdienst 🇩🇪 🇬🇧 🇪🇸 🇺🇦 mit Kindergottesdienst
DESCRIPTION:Wir würden uns freuen\, Dich bei uns willkommen zu heißen. In unseren Veranstaltungen begegnen sich Menschen aller Generationen. Hier gibt es für Dich die Möglichkeit\, neue Menschen kennenzulernen und Gott zu erleben. \nKinder und Familien sind uns wichtig! Parallel zu unserem ersten Gottesdienst um 10:00 Uhr bieten wir ein buntes Programm für alle Kinder.  Unser Ziel ist es Kinder für Jesus zu begeistern und ihr Leben durch Werte zu stärken.  Durch spannende und interaktive Bibelgeschichten\, Lieder und Spiele erfahren die Kinder Wertschätzung und dass Gott sie liebt. Bei uns begegnen sich Kinder und Eltern gerne! Unsere Mitarbeiter freuen sich Dich und Deine Familie kennenzulernen! \nUnsere Gruppen sind: \n\nSpatzen: 3-4 Jahre\nIgel: 4-6 Jahre\nSchulkinder: 6-12  Jahre\n\nFür Mütter mit Babys gibt es einen Stillraum mit Wickelmöglichkeit. Ein toller Spielraum wartet  auf alle Kinder unter 2 Jahren mit ihren Eltern. In beiden Räumen kann der Gottesdienst per Video- und Tonübertragung verfolgt werden.
URL:https://www.elim-leipzig.de/termin/gottesdienst-%f0%9f%87%a9%f0%9f%87%aa-%f0%9f%87%ac%f0%9f%87%a7-%f0%9f%87%aa%f0%9f%87%b8-%f0%9f%87%ba%f0%9f%87%a6-mit-kindergottesdienst-3/2025-07-13/
CATEGORIES:Allgemein,Kinder
END:VEVENT
BEGIN:VEVENT
DTSTART;TZID=Europe/Berlin:20250716T160000
DTEND;TZID=Europe/Berlin:20250716T180000
DTSTAMP:20260424T192442
CREATED:20250523T090921Z
LAST-MODIFIED:20250709T095108Z
UID:6990-1752681600-1752688800@www.elim-leipzig.de
SUMMARY:Bibel Café
DESCRIPTION:entspannt bei Café die Bibel in guter Gemeinschaft lesen und studieren
URL:https://www.elim-leipzig.de/termin/bibel-cafe-4/2025-07-16/
CATEGORIES:Allgemein
END:VEVENT
BEGIN:VEVENT
DTSTART;TZID=Europe/Berlin:20250717T190000
DTEND;TZID=Europe/Berlin:20250717T203000
DTSTAMP:20260424T192442
CREATED:20250523T091044Z
LAST-MODIFIED:20250709T095314Z
UID:6996-1752778800-1752784200@www.elim-leipzig.de
SUMMARY:Gebetsabend
DESCRIPTION:Wir beten und hören gemeinsam für die Gemeinde\, Gemeindeleitung\, unsere Umgebung und verschiedene Anliegen.
URL:https://www.elim-leipzig.de/termin/gebetsabend-7/2025-07-17/
CATEGORIES:Allgemein
END:VEVENT
BEGIN:VEVENT
DTSTART;TZID=Europe/Berlin:20250718T183000
DTEND;TZID=Europe/Berlin:20250718T220000
DTSTAMP:20260424T192442
CREATED:20250523T091222Z
LAST-MODIFIED:20250523T091222Z
UID:7002-1752863400-1752876000@www.elim-leipzig.de
SUMMARY:HopeCulture Gottesdienst
DESCRIPTION:
URL:https://www.elim-leipzig.de/termin/hopeculture-gottesdienst-6/2025-07-18/
CATEGORIES:Jugend
END:VEVENT
BEGIN:VEVENT
DTSTART;TZID=Europe/Berlin:20250720T100000
DTEND;TZID=Europe/Berlin:20250720T110000
DTSTAMP:20260424T192442
CREATED:20250523T090727Z
LAST-MODIFIED:20250523T090752Z
UID:6981-1753005600-1753009200@www.elim-leipzig.de
SUMMARY:Gottesdienst 🇩🇪 🇬🇧 🇪🇸 🇺🇦 mit Kindergottesdienst
DESCRIPTION:Wir würden uns freuen\, Dich bei uns willkommen zu heißen. In unseren Veranstaltungen begegnen sich Menschen aller Generationen. Hier gibt es für Dich die Möglichkeit\, neue Menschen kennenzulernen und Gott zu erleben. \nKinder und Familien sind uns wichtig! Parallel zu unserem ersten Gottesdienst um 10:00 Uhr bieten wir ein buntes Programm für alle Kinder.  Unser Ziel ist es Kinder für Jesus zu begeistern und ihr Leben durch Werte zu stärken.  Durch spannende und interaktive Bibelgeschichten\, Lieder und Spiele erfahren die Kinder Wertschätzung und dass Gott sie liebt. Bei uns begegnen sich Kinder und Eltern gerne! Unsere Mitarbeiter freuen sich Dich und Deine Familie kennenzulernen! \nUnsere Gruppen sind: \n\nSpatzen: 3-4 Jahre\nIgel: 4-6 Jahre\nSchulkinder: 6-12  Jahre\n\nFür Mütter mit Babys gibt es einen Stillraum mit Wickelmöglichkeit. Ein toller Spielraum wartet  auf alle Kinder unter 2 Jahren mit ihren Eltern. In beiden Räumen kann der Gottesdienst per Video- und Tonübertragung verfolgt werden.
URL:https://www.elim-leipzig.de/termin/gottesdienst-%f0%9f%87%a9%f0%9f%87%aa-%f0%9f%87%ac%f0%9f%87%a7-%f0%9f%87%aa%f0%9f%87%b8-%f0%9f%87%ba%f0%9f%87%a6-mit-kindergottesdienst-3/2025-07-20/
CATEGORIES:Allgemein,Kinder
END:VEVENT
BEGIN:VEVENT
DTSTART;TZID=Europe/Berlin:20250723T160000
DTEND;TZID=Europe/Berlin:20250723T180000
DTSTAMP:20260424T192442
CREATED:20250523T090921Z
LAST-MODIFIED:20250709T095108Z
UID:6991-1753286400-1753293600@www.elim-leipzig.de
SUMMARY:Bibel Café
DESCRIPTION:entspannt bei Café die Bibel in guter Gemeinschaft lesen und studieren
URL:https://www.elim-leipzig.de/termin/bibel-cafe-4/2025-07-23/
CATEGORIES:Allgemein
END:VEVENT
BEGIN:VEVENT
DTSTART;TZID=Europe/Berlin:20250724T190000
DTEND;TZID=Europe/Berlin:20250724T203000
DTSTAMP:20260424T192442
CREATED:20250523T091044Z
LAST-MODIFIED:20250709T095314Z
UID:6997-1753383600-1753389000@www.elim-leipzig.de
SUMMARY:Gebetsabend
DESCRIPTION:Wir beten und hören gemeinsam für die Gemeinde\, Gemeindeleitung\, unsere Umgebung und verschiedene Anliegen.
URL:https://www.elim-leipzig.de/termin/gebetsabend-7/2025-07-24/
CATEGORIES:Allgemein
END:VEVENT
BEGIN:VEVENT
DTSTART;TZID=Europe/Berlin:20250727T100000
DTEND;TZID=Europe/Berlin:20250727T110000
DTSTAMP:20260424T192442
CREATED:20250523T090727Z
LAST-MODIFIED:20250523T090752Z
UID:6982-1753610400-1753614000@www.elim-leipzig.de
SUMMARY:Gottesdienst 🇩🇪 🇬🇧 🇪🇸 🇺🇦 mit Kindergottesdienst
DESCRIPTION:Wir würden uns freuen\, Dich bei uns willkommen zu heißen. In unseren Veranstaltungen begegnen sich Menschen aller Generationen. Hier gibt es für Dich die Möglichkeit\, neue Menschen kennenzulernen und Gott zu erleben. \nKinder und Familien sind uns wichtig! Parallel zu unserem ersten Gottesdienst um 10:00 Uhr bieten wir ein buntes Programm für alle Kinder.  Unser Ziel ist es Kinder für Jesus zu begeistern und ihr Leben durch Werte zu stärken.  Durch spannende und interaktive Bibelgeschichten\, Lieder und Spiele erfahren die Kinder Wertschätzung und dass Gott sie liebt. Bei uns begegnen sich Kinder und Eltern gerne! Unsere Mitarbeiter freuen sich Dich und Deine Familie kennenzulernen! \nUnsere Gruppen sind: \n\nSpatzen: 3-4 Jahre\nIgel: 4-6 Jahre\nSchulkinder: 6-12  Jahre\n\nFür Mütter mit Babys gibt es einen Stillraum mit Wickelmöglichkeit. Ein toller Spielraum wartet  auf alle Kinder unter 2 Jahren mit ihren Eltern. In beiden Räumen kann der Gottesdienst per Video- und Tonübertragung verfolgt werden.
URL:https://www.elim-leipzig.de/termin/gottesdienst-%f0%9f%87%a9%f0%9f%87%aa-%f0%9f%87%ac%f0%9f%87%a7-%f0%9f%87%aa%f0%9f%87%b8-%f0%9f%87%ba%f0%9f%87%a6-mit-kindergottesdienst-3/2025-07-27/
CATEGORIES:Allgemein,Kinder
END:VEVENT
BEGIN:VEVENT
DTSTART;TZID=Europe/Berlin:20250730T160000
DTEND;TZID=Europe/Berlin:20250730T180000
DTSTAMP:20260424T192442
CREATED:20250523T090921Z
LAST-MODIFIED:20250709T095108Z
UID:6992-1753891200-1753898400@www.elim-leipzig.de
SUMMARY:Bibel Café
DESCRIPTION:entspannt bei Café die Bibel in guter Gemeinschaft lesen und studieren
URL:https://www.elim-leipzig.de/termin/bibel-cafe-4/2025-07-30/
CATEGORIES:Allgemein
END:VEVENT
BEGIN:VEVENT
DTSTART;TZID=Europe/Berlin:20250731T190000
DTEND;TZID=Europe/Berlin:20250731T203000
DTSTAMP:20260424T192442
CREATED:20250523T091044Z
LAST-MODIFIED:20250709T095314Z
UID:6998-1753988400-1753993800@www.elim-leipzig.de
SUMMARY:Gebetsabend
DESCRIPTION:Wir beten und hören gemeinsam für die Gemeinde\, Gemeindeleitung\, unsere Umgebung und verschiedene Anliegen.
URL:https://www.elim-leipzig.de/termin/gebetsabend-7/2025-07-31/
CATEGORIES:Allgemein
END:VEVENT
END:VCALENDAR