BEGIN:VCALENDAR
VERSION:2.0
PRODID:-//Evangelische Gemeinde ELIM Leipzig - ECPv6.15.20//NONSGML v1.0//EN
CALSCALE:GREGORIAN
METHOD:PUBLISH
X-ORIGINAL-URL:https://www.elim-leipzig.de
X-WR-CALDESC:Veranstaltungen für Evangelische Gemeinde ELIM Leipzig
REFRESH-INTERVAL;VALUE=DURATION:PT1H
X-Robots-Tag:noindex
X-PUBLISHED-TTL:PT1H
BEGIN:VTIMEZONE
TZID:Europe/Berlin
BEGIN:DAYLIGHT
TZOFFSETFROM:+0100
TZOFFSETTO:+0200
TZNAME:CEST
DTSTART:20240331T010000
END:DAYLIGHT
BEGIN:STANDARD
TZOFFSETFROM:+0200
TZOFFSETTO:+0100
TZNAME:CET
DTSTART:20241027T010000
END:STANDARD
BEGIN:DAYLIGHT
TZOFFSETFROM:+0100
TZOFFSETTO:+0200
TZNAME:CEST
DTSTART:20250330T010000
END:DAYLIGHT
BEGIN:STANDARD
TZOFFSETFROM:+0200
TZOFFSETTO:+0100
TZNAME:CET
DTSTART:20251026T010000
END:STANDARD
BEGIN:DAYLIGHT
TZOFFSETFROM:+0100
TZOFFSETTO:+0200
TZNAME:CEST
DTSTART:20260329T010000
END:DAYLIGHT
BEGIN:STANDARD
TZOFFSETFROM:+0200
TZOFFSETTO:+0100
TZNAME:CET
DTSTART:20261025T010000
END:STANDARD
END:VTIMEZONE
BEGIN:VEVENT
DTSTART;TZID=Europe/Berlin:20251102T100000
DTEND;TZID=Europe/Berlin:20251102T110000
DTSTAMP:20260424T153649
CREATED:20251029T091052Z
LAST-MODIFIED:20251029T091336Z
UID:7235-1762077600-1762081200@www.elim-leipzig.de
SUMMARY:Gottesdienst 🇩🇪 🇬🇧 🇪🇸 🇺🇦 mit Kindergottesdienst
DESCRIPTION:Wir würden uns freuen\, Dich bei uns willkommen zu heißen. In unseren Veranstaltungen begegnen sich Menschen aller Generationen. Hier gibt es für Dich die Möglichkeit\, neue Menschen kennenzulernen und Gott zu erleben. \nKinder und Familien sind uns wichtig! Parallel zu unserem ersten Gottesdienst um 10:00 Uhr bieten wir ein buntes Programm für alle Kinder.  Unser Ziel ist es Kinder für Jesus zu begeistern und ihr Leben durch Werte zu stärken.  Durch spannende und interaktive Bibelgeschichten\, Lieder und Spiele erfahren die Kinder Wertschätzung und dass Gott sie liebt. Bei uns begegnen sich Kinder und Eltern gerne! Unsere Mitarbeiter freuen sich Dich und Deine Familie kennenzulernen! \nUnsere Gruppen sind: \n\nSpatzen: 3-4 Jahre\nIgel: 4-6 Jahre\nSchulkinder: 6-12  Jahre\n\nFür Mütter mit Babys gibt es einen Stillraum mit Wickelmöglichkeit. Ein toller Spielraum wartet  auf alle Kinder unter 2 Jahren mit ihren Eltern. In beiden Räumen kann der Gottesdienst per Video- und Tonübertragung verfolgt werden.
URL:https://www.elim-leipzig.de/termin/gottesdienst-%f0%9f%87%a9%f0%9f%87%aa-%f0%9f%87%ac%f0%9f%87%a7-%f0%9f%87%aa%f0%9f%87%b8-%f0%9f%87%ba%f0%9f%87%a6-mit-kindergottesdienst-auswaehlen-gottesdienst-%f0%9f%87%a9%f0%9f%87%aa-%f0%9f%87%ac/2025-11-02/
CATEGORIES:Allgemein,Kinder
END:VEVENT
BEGIN:VEVENT
DTSTART;TZID=Europe/Berlin:20251105T160000
DTEND;TZID=Europe/Berlin:20251105T180000
DTSTAMP:20260424T153649
CREATED:20250904T073311Z
LAST-MODIFIED:20250904T073311Z
UID:7144-1762358400-1762365600@www.elim-leipzig.de
SUMMARY:Bibel Café
DESCRIPTION:entspannt bei Café die Bibel in guter Gemeinschaft lesen und studieren
URL:https://www.elim-leipzig.de/termin/bibel-cafe-8/2025-11-05/
CATEGORIES:Allgemein
END:VEVENT
BEGIN:VEVENT
DTSTART;TZID=Europe/Berlin:20251106T190000
DTEND;TZID=Europe/Berlin:20251106T203000
DTSTAMP:20260424T153649
CREATED:20250904T071223Z
LAST-MODIFIED:20250904T071223Z
UID:7125-1762455600-1762461000@www.elim-leipzig.de
SUMMARY:Gebetsabend
DESCRIPTION:Wir beten und hören gemeinsam für die Gemeinde\, Gemeindeleitung\, unsere Umgebung und verschiedene Anliegen.
URL:https://www.elim-leipzig.de/termin/gebetsabend-11/2025-11-06/
CATEGORIES:Allgemein
END:VEVENT
BEGIN:VEVENT
DTSTART;TZID=Europe/Berlin:20251107T183000
DTEND;TZID=Europe/Berlin:20251107T220000
DTSTAMP:20260424T153649
CREATED:20250904T074001Z
LAST-MODIFIED:20250904T074001Z
UID:7165-1762540200-1762552800@www.elim-leipzig.de
SUMMARY:HopeCulture Gottesdienst
DESCRIPTION:
URL:https://www.elim-leipzig.de/termin/hopeculture-gottesdienst-11/2025-11-07/
CATEGORIES:Jugend
END:VEVENT
BEGIN:VEVENT
DTSTART;TZID=Europe/Berlin:20251108T100000
DTEND;TZID=Europe/Berlin:20251108T123000
DTSTAMP:20260424T153649
CREATED:20250723T064933Z
LAST-MODIFIED:20250723T064933Z
UID:7089-1762596000-1762605000@www.elim-leipzig.de
SUMMARY:Royal Rangers Stammtreff
DESCRIPTION:
URL:https://www.elim-leipzig.de/termin/royal-rangers-stammtreff-3/2025-11-08/
CATEGORIES:Allgemein,Kinder
END:VEVENT
BEGIN:VEVENT
DTSTART;TZID=Europe/Berlin:20251109T100000
DTEND;TZID=Europe/Berlin:20251109T110000
DTSTAMP:20260424T153649
CREATED:20251029T091052Z
LAST-MODIFIED:20251029T091336Z
UID:7236-1762682400-1762686000@www.elim-leipzig.de
SUMMARY:Gottesdienst 🇩🇪 🇬🇧 🇪🇸 🇺🇦 mit Kindergottesdienst
DESCRIPTION:Wir würden uns freuen\, Dich bei uns willkommen zu heißen. In unseren Veranstaltungen begegnen sich Menschen aller Generationen. Hier gibt es für Dich die Möglichkeit\, neue Menschen kennenzulernen und Gott zu erleben. \nKinder und Familien sind uns wichtig! Parallel zu unserem ersten Gottesdienst um 10:00 Uhr bieten wir ein buntes Programm für alle Kinder.  Unser Ziel ist es Kinder für Jesus zu begeistern und ihr Leben durch Werte zu stärken.  Durch spannende und interaktive Bibelgeschichten\, Lieder und Spiele erfahren die Kinder Wertschätzung und dass Gott sie liebt. Bei uns begegnen sich Kinder und Eltern gerne! Unsere Mitarbeiter freuen sich Dich und Deine Familie kennenzulernen! \nUnsere Gruppen sind: \n\nSpatzen: 3-4 Jahre\nIgel: 4-6 Jahre\nSchulkinder: 6-12  Jahre\n\nFür Mütter mit Babys gibt es einen Stillraum mit Wickelmöglichkeit. Ein toller Spielraum wartet  auf alle Kinder unter 2 Jahren mit ihren Eltern. In beiden Räumen kann der Gottesdienst per Video- und Tonübertragung verfolgt werden.
URL:https://www.elim-leipzig.de/termin/gottesdienst-%f0%9f%87%a9%f0%9f%87%aa-%f0%9f%87%ac%f0%9f%87%a7-%f0%9f%87%aa%f0%9f%87%b8-%f0%9f%87%ba%f0%9f%87%a6-mit-kindergottesdienst-auswaehlen-gottesdienst-%f0%9f%87%a9%f0%9f%87%aa-%f0%9f%87%ac/2025-11-09/
CATEGORIES:Allgemein,Kinder
END:VEVENT
BEGIN:VEVENT
DTSTART;TZID=Europe/Berlin:20251112T160000
DTEND;TZID=Europe/Berlin:20251112T180000
DTSTAMP:20260424T153649
CREATED:20250904T073311Z
LAST-MODIFIED:20250904T073311Z
UID:7145-1762963200-1762970400@www.elim-leipzig.de
SUMMARY:Bibel Café
DESCRIPTION:entspannt bei Café die Bibel in guter Gemeinschaft lesen und studieren
URL:https://www.elim-leipzig.de/termin/bibel-cafe-8/2025-11-12/
CATEGORIES:Allgemein
END:VEVENT
BEGIN:VEVENT
DTSTART;TZID=Europe/Berlin:20251113T190000
DTEND;TZID=Europe/Berlin:20251113T203000
DTSTAMP:20260424T153649
CREATED:20250904T071223Z
LAST-MODIFIED:20250904T071223Z
UID:7126-1763060400-1763065800@www.elim-leipzig.de
SUMMARY:Gebetsabend
DESCRIPTION:Wir beten und hören gemeinsam für die Gemeinde\, Gemeindeleitung\, unsere Umgebung und verschiedene Anliegen.
URL:https://www.elim-leipzig.de/termin/gebetsabend-11/2025-11-13/
CATEGORIES:Allgemein
END:VEVENT
BEGIN:VEVENT
DTSTART;TZID=Europe/Berlin:20251114T183000
DTEND;TZID=Europe/Berlin:20251114T220000
DTSTAMP:20260424T153649
CREATED:20250904T074001Z
LAST-MODIFIED:20250904T074001Z
UID:7166-1763145000-1763157600@www.elim-leipzig.de
SUMMARY:HopeCulture Gottesdienst
DESCRIPTION:
URL:https://www.elim-leipzig.de/termin/hopeculture-gottesdienst-11/2025-11-14/
CATEGORIES:Jugend
END:VEVENT
BEGIN:VEVENT
DTSTART;TZID=Europe/Berlin:20251116T100000
DTEND;TZID=Europe/Berlin:20251116T110000
DTSTAMP:20260424T153649
CREATED:20251029T091052Z
LAST-MODIFIED:20251029T091336Z
UID:7237-1763287200-1763290800@www.elim-leipzig.de
SUMMARY:Gottesdienst 🇩🇪 🇬🇧 🇪🇸 🇺🇦 mit Kindergottesdienst
DESCRIPTION:Wir würden uns freuen\, Dich bei uns willkommen zu heißen. In unseren Veranstaltungen begegnen sich Menschen aller Generationen. Hier gibt es für Dich die Möglichkeit\, neue Menschen kennenzulernen und Gott zu erleben. \nKinder und Familien sind uns wichtig! Parallel zu unserem ersten Gottesdienst um 10:00 Uhr bieten wir ein buntes Programm für alle Kinder.  Unser Ziel ist es Kinder für Jesus zu begeistern und ihr Leben durch Werte zu stärken.  Durch spannende und interaktive Bibelgeschichten\, Lieder und Spiele erfahren die Kinder Wertschätzung und dass Gott sie liebt. Bei uns begegnen sich Kinder und Eltern gerne! Unsere Mitarbeiter freuen sich Dich und Deine Familie kennenzulernen! \nUnsere Gruppen sind: \n\nSpatzen: 3-4 Jahre\nIgel: 4-6 Jahre\nSchulkinder: 6-12  Jahre\n\nFür Mütter mit Babys gibt es einen Stillraum mit Wickelmöglichkeit. Ein toller Spielraum wartet  auf alle Kinder unter 2 Jahren mit ihren Eltern. In beiden Räumen kann der Gottesdienst per Video- und Tonübertragung verfolgt werden.
URL:https://www.elim-leipzig.de/termin/gottesdienst-%f0%9f%87%a9%f0%9f%87%aa-%f0%9f%87%ac%f0%9f%87%a7-%f0%9f%87%aa%f0%9f%87%b8-%f0%9f%87%ba%f0%9f%87%a6-mit-kindergottesdienst-auswaehlen-gottesdienst-%f0%9f%87%a9%f0%9f%87%aa-%f0%9f%87%ac/2025-11-16/
CATEGORIES:Allgemein,Kinder
END:VEVENT
BEGIN:VEVENT
DTSTART;TZID=Europe/Berlin:20251119T160000
DTEND;TZID=Europe/Berlin:20251119T180000
DTSTAMP:20260424T153649
CREATED:20250904T073311Z
LAST-MODIFIED:20250904T073311Z
UID:7146-1763568000-1763575200@www.elim-leipzig.de
SUMMARY:Bibel Café
DESCRIPTION:entspannt bei Café die Bibel in guter Gemeinschaft lesen und studieren
URL:https://www.elim-leipzig.de/termin/bibel-cafe-8/2025-11-19/
CATEGORIES:Allgemein
END:VEVENT
BEGIN:VEVENT
DTSTART;TZID=Europe/Berlin:20251120T190000
DTEND;TZID=Europe/Berlin:20251120T203000
DTSTAMP:20260424T153649
CREATED:20250904T071223Z
LAST-MODIFIED:20250904T071223Z
UID:7127-1763665200-1763670600@www.elim-leipzig.de
SUMMARY:Gebetsabend
DESCRIPTION:Wir beten und hören gemeinsam für die Gemeinde\, Gemeindeleitung\, unsere Umgebung und verschiedene Anliegen.
URL:https://www.elim-leipzig.de/termin/gebetsabend-11/2025-11-20/
CATEGORIES:Allgemein
END:VEVENT
BEGIN:VEVENT
DTSTART;TZID=Europe/Berlin:20251121T183000
DTEND;TZID=Europe/Berlin:20251121T220000
DTSTAMP:20260424T153649
CREATED:20250904T074001Z
LAST-MODIFIED:20250904T074001Z
UID:7167-1763749800-1763762400@www.elim-leipzig.de
SUMMARY:HopeCulture Gottesdienst
DESCRIPTION:
URL:https://www.elim-leipzig.de/termin/hopeculture-gottesdienst-11/2025-11-21/
CATEGORIES:Jugend
END:VEVENT
BEGIN:VEVENT
DTSTART;TZID=Europe/Berlin:20251122T100000
DTEND;TZID=Europe/Berlin:20251122T123000
DTSTAMP:20260424T153649
CREATED:20250723T064933Z
LAST-MODIFIED:20250723T064933Z
UID:7090-1763805600-1763814600@www.elim-leipzig.de
SUMMARY:Royal Rangers Stammtreff
DESCRIPTION:
URL:https://www.elim-leipzig.de/termin/royal-rangers-stammtreff-3/2025-11-22/
CATEGORIES:Allgemein,Kinder
END:VEVENT
BEGIN:VEVENT
DTSTART;TZID=Europe/Berlin:20251123T100000
DTEND;TZID=Europe/Berlin:20251123T110000
DTSTAMP:20260424T153649
CREATED:20251029T091052Z
LAST-MODIFIED:20251029T091336Z
UID:7238-1763892000-1763895600@www.elim-leipzig.de
SUMMARY:Gottesdienst 🇩🇪 🇬🇧 🇪🇸 🇺🇦 mit Kindergottesdienst
DESCRIPTION:Wir würden uns freuen\, Dich bei uns willkommen zu heißen. In unseren Veranstaltungen begegnen sich Menschen aller Generationen. Hier gibt es für Dich die Möglichkeit\, neue Menschen kennenzulernen und Gott zu erleben. \nKinder und Familien sind uns wichtig! Parallel zu unserem ersten Gottesdienst um 10:00 Uhr bieten wir ein buntes Programm für alle Kinder.  Unser Ziel ist es Kinder für Jesus zu begeistern und ihr Leben durch Werte zu stärken.  Durch spannende und interaktive Bibelgeschichten\, Lieder und Spiele erfahren die Kinder Wertschätzung und dass Gott sie liebt. Bei uns begegnen sich Kinder und Eltern gerne! Unsere Mitarbeiter freuen sich Dich und Deine Familie kennenzulernen! \nUnsere Gruppen sind: \n\nSpatzen: 3-4 Jahre\nIgel: 4-6 Jahre\nSchulkinder: 6-12  Jahre\n\nFür Mütter mit Babys gibt es einen Stillraum mit Wickelmöglichkeit. Ein toller Spielraum wartet  auf alle Kinder unter 2 Jahren mit ihren Eltern. In beiden Räumen kann der Gottesdienst per Video- und Tonübertragung verfolgt werden.
URL:https://www.elim-leipzig.de/termin/gottesdienst-%f0%9f%87%a9%f0%9f%87%aa-%f0%9f%87%ac%f0%9f%87%a7-%f0%9f%87%aa%f0%9f%87%b8-%f0%9f%87%ba%f0%9f%87%a6-mit-kindergottesdienst-auswaehlen-gottesdienst-%f0%9f%87%a9%f0%9f%87%aa-%f0%9f%87%ac/2025-11-23/
CATEGORIES:Allgemein,Kinder
END:VEVENT
BEGIN:VEVENT
DTSTART;TZID=Europe/Berlin:20251126T160000
DTEND;TZID=Europe/Berlin:20251126T180000
DTSTAMP:20260424T153649
CREATED:20250904T073311Z
LAST-MODIFIED:20250904T073311Z
UID:7147-1764172800-1764180000@www.elim-leipzig.de
SUMMARY:Bibel Café
DESCRIPTION:entspannt bei Café die Bibel in guter Gemeinschaft lesen und studieren
URL:https://www.elim-leipzig.de/termin/bibel-cafe-8/2025-11-26/
CATEGORIES:Allgemein
END:VEVENT
BEGIN:VEVENT
DTSTART;TZID=Europe/Berlin:20251127T190000
DTEND;TZID=Europe/Berlin:20251127T203000
DTSTAMP:20260424T153649
CREATED:20250904T071223Z
LAST-MODIFIED:20250904T071223Z
UID:7128-1764270000-1764275400@www.elim-leipzig.de
SUMMARY:Gebetsabend
DESCRIPTION:Wir beten und hören gemeinsam für die Gemeinde\, Gemeindeleitung\, unsere Umgebung und verschiedene Anliegen.
URL:https://www.elim-leipzig.de/termin/gebetsabend-11/2025-11-27/
CATEGORIES:Allgemein
END:VEVENT
BEGIN:VEVENT
DTSTART;TZID=Europe/Berlin:20251128T183000
DTEND;TZID=Europe/Berlin:20251128T220000
DTSTAMP:20260424T153649
CREATED:20250904T074001Z
LAST-MODIFIED:20250904T074001Z
UID:7168-1764354600-1764367200@www.elim-leipzig.de
SUMMARY:HopeCulture Gottesdienst
DESCRIPTION:
URL:https://www.elim-leipzig.de/termin/hopeculture-gottesdienst-11/2025-11-28/
CATEGORIES:Jugend
END:VEVENT
BEGIN:VEVENT
DTSTART;TZID=Europe/Berlin:20251130T100000
DTEND;TZID=Europe/Berlin:20251130T110000
DTSTAMP:20260424T153649
CREATED:20251029T091052Z
LAST-MODIFIED:20251029T091336Z
UID:7239-1764496800-1764500400@www.elim-leipzig.de
SUMMARY:Gottesdienst 🇩🇪 🇬🇧 🇪🇸 🇺🇦 mit Kindergottesdienst
DESCRIPTION:Wir würden uns freuen\, Dich bei uns willkommen zu heißen. In unseren Veranstaltungen begegnen sich Menschen aller Generationen. Hier gibt es für Dich die Möglichkeit\, neue Menschen kennenzulernen und Gott zu erleben. \nKinder und Familien sind uns wichtig! Parallel zu unserem ersten Gottesdienst um 10:00 Uhr bieten wir ein buntes Programm für alle Kinder.  Unser Ziel ist es Kinder für Jesus zu begeistern und ihr Leben durch Werte zu stärken.  Durch spannende und interaktive Bibelgeschichten\, Lieder und Spiele erfahren die Kinder Wertschätzung und dass Gott sie liebt. Bei uns begegnen sich Kinder und Eltern gerne! Unsere Mitarbeiter freuen sich Dich und Deine Familie kennenzulernen! \nUnsere Gruppen sind: \n\nSpatzen: 3-4 Jahre\nIgel: 4-6 Jahre\nSchulkinder: 6-12  Jahre\n\nFür Mütter mit Babys gibt es einen Stillraum mit Wickelmöglichkeit. Ein toller Spielraum wartet  auf alle Kinder unter 2 Jahren mit ihren Eltern. In beiden Räumen kann der Gottesdienst per Video- und Tonübertragung verfolgt werden.
URL:https://www.elim-leipzig.de/termin/gottesdienst-%f0%9f%87%a9%f0%9f%87%aa-%f0%9f%87%ac%f0%9f%87%a7-%f0%9f%87%aa%f0%9f%87%b8-%f0%9f%87%ba%f0%9f%87%a6-mit-kindergottesdienst-auswaehlen-gottesdienst-%f0%9f%87%a9%f0%9f%87%aa-%f0%9f%87%ac/2025-11-30/
CATEGORIES:Allgemein,Kinder
END:VEVENT
END:VCALENDAR